BEGIN:VCALENDAR
VERSION:2.0
PRODID:-//Aeepyci - ECPv6.7.0//NONSGML v1.0//EN
CALSCALE:GREGORIAN
METHOD:PUBLISH
X-ORIGINAL-URL:https://aeepyci.org
X-WR-CALDESC:Eventos para Aeepyci
REFRESH-INTERVAL;VALUE=DURATION:PT1H
X-Robots-Tag:noindex
X-PUBLISHED-TTL:PT1H
BEGIN:VTIMEZONE
TZID:Europe/Helsinki
BEGIN:DAYLIGHT
TZOFFSETFROM:+0200
TZOFFSETTO:+0300
TZNAME:EEST
DTSTART:20190331T010000
END:DAYLIGHT
BEGIN:STANDARD
TZOFFSETFROM:+0300
TZOFFSETTO:+0200
TZNAME:EET
DTSTART:20191027T010000
END:STANDARD
END:VTIMEZONE
BEGIN:VEVENT
DTSTART;VALUE=DATE:20190910
DTEND;VALUE=DATE:20190914
DTSTAMP:20260420T154822
CREATED:20190122T182028Z
LAST-MODIFIED:20190122T182028Z
UID:3915-1568073600-1568419199@aeepyci.org
SUMMARY:ICPIC 2019
DESCRIPTION:We are looking forward to welcoming you back to Geneva\, Switzerland\, for the 5th International Conference on Prevention & Infection Control (ICPIC)\, which will be held on 10-13 September 2019\, celebrating the 10 year anniversary of ICPIC. \nBy now\, ICPIC has become an established entity in the field of international Infection Control and Prevention meetings\, with an average of 1200 participants from 100+ countries for the prior 4 meetings. \nThe conference offers a unique forum for participants to exchange knowledge and experience in the prevention of healthcare-associated infections and control of antimicrobial resistance around the world.
URL:https://aeepyci.org/event/icpic-2019/
LOCATION:Geneva\, Geneva\, Suiza
CATEGORIES:Congresos
ATTACH;FMTTYPE=image/jpeg:https://aeepyci.org/wp-content/uploads/2019/01/ICPIC2019.jpg
END:VEVENT
END:VCALENDAR