BEGIN:VCALENDAR
VERSION:2.0
PRODID:-//Aeepyci - ECPv6.7.0//NONSGML v1.0//EN
CALSCALE:GREGORIAN
METHOD:PUBLISH
X-ORIGINAL-URL:https://aeepyci.org
X-WR-CALDESC:Eventos para Aeepyci
REFRESH-INTERVAL;VALUE=DURATION:PT1H
X-Robots-Tag:noindex
X-PUBLISHED-TTL:PT1H
BEGIN:VTIMEZONE
TZID:Europe/Helsinki
BEGIN:DAYLIGHT
TZOFFSETFROM:+0200
TZOFFSETTO:+0300
TZNAME:EEST
DTSTART:20190331T010000
END:DAYLIGHT
BEGIN:STANDARD
TZOFFSETFROM:+0300
TZOFFSETTO:+0200
TZNAME:EET
DTSTART:20191027T010000
END:STANDARD
END:VTIMEZONE
BEGIN:VEVENT
DTSTART;VALUE=DATE:20190614
DTEND;VALUE=DATE:20190615
DTSTAMP:20260420T204340
CREATED:20190322T094657Z
LAST-MODIFIED:20190322T094657Z
UID:3979-1560470400-1560556799@aeepyci.org
SUMMARY:VII Jornada Nacional y IX Jornada Catalana ACICI\, “e-experiencias en control de infección\, los profesionales toman la palabra”
DESCRIPTION:La Jornada se desarrollará el próximo 14 de junio en las Cavas Freixenet de Sant Sadurní d’ Anoia\, unas bodegas emblemáticas llenas de tradición que disponen de un amplio espacio que permitirá compartir un día de intercambio de conocimientos. \nPara esta edición\, se han elegido temas innovadores y de actualidad. El título que enmarca la jornada es “e-experiencias en control de infección\, los profesionales toman la palabra” . \nLa Jornada está dirigida a los profesionales de diferentes disciplinas con interés en el tema. \nCARTA INFORMATIVA  |  CARTEL
URL:https://aeepyci.org/event/vii-jornada-nacional-y-ix-jornada-catalana-acici-e-experiencias-en-control-de-infeccion-los-profesionales-toman-la-palabra/
LOCATION:Cavas Freixenet\, Plaça Joan Sala\, 2\, Sant Sadurní d'Anoia\, Barcelona\, 08770\, España
CATEGORIES:Congresos
ATTACH;FMTTYPE=image/jpeg:https://aeepyci.org/wp-content/uploads/2019/03/jornadasjunio_0.jpg
ORGANIZER;CN="ACICI":MAILTO:acicicat@gmail.com
END:VEVENT
END:VCALENDAR