BEGIN:VCALENDAR
VERSION:2.0
PRODID:-//Aeepyci - ECPv6.7.0//NONSGML v1.0//EN
CALSCALE:GREGORIAN
METHOD:PUBLISH
X-ORIGINAL-URL:https://aeepyci.org
X-WR-CALDESC:Eventos para Aeepyci
REFRESH-INTERVAL;VALUE=DURATION:PT1H
X-Robots-Tag:noindex
X-PUBLISHED-TTL:PT1H
BEGIN:VTIMEZONE
TZID:Europe/Helsinki
BEGIN:DAYLIGHT
TZOFFSETFROM:+0200
TZOFFSETTO:+0300
TZNAME:EEST
DTSTART:20190331T010000
END:DAYLIGHT
BEGIN:STANDARD
TZOFFSETFROM:+0300
TZOFFSETTO:+0200
TZNAME:EET
DTSTART:20191027T010000
END:STANDARD
END:VTIMEZONE
BEGIN:VEVENT
DTSTART;VALUE=DATE:20190413
DTEND;VALUE=DATE:20190417
DTSTAMP:20260420T234051
CREATED:20190122T182738Z
LAST-MODIFIED:20190122T182738Z
UID:3919-1555113600-1555459199@aeepyci.org
SUMMARY:ECCMID 2019
DESCRIPTION:Welcome to ECCMID 2019!\n\nWe invite you to the 29th European Congress of Clinical Microbiology & Infectious Diseases\, which will take place in Amsterdam\, Netherlands\, from 13 – 16 April 2019.\nECCMID\, as the world’s premier Clinical Microbiology & Infectious Diseases event\, brings together experts from many fields to present their latest findings\, guidelines and experiences to an audience of over 12\,000 colleagues. This year\, the Programme Committee has developed a multi-faceted program incorporating keynote lectures and oral sessions\, as well as interactive workshops\, meet-the-expert sessions\, and a wide range of symposia. Be sure to get involved in all of the exciting educational\, social and professional events ECCMID has to offer you!
URL:https://aeepyci.org/event/eccmid-2019/
LOCATION:Amsterdam\, RAI Amsterdam\, Amsterdam\, Holanda
CATEGORIES:Congresos
ATTACH;FMTTYPE=image/jpeg:https://aeepyci.org/wp-content/uploads/2019/01/ECCMID2019.jpg
END:VEVENT
END:VCALENDAR